BEGIN:VCALENDAR
VERSION:2.0
PRODID:-//Grundschule Konzell - ECPv6.15.18//NONSGML v1.0//EN
CALSCALE:GREGORIAN
METHOD:PUBLISH
X-WR-CALNAME:Grundschule Konzell
X-ORIGINAL-URL:https://grundschule-konzell.de
X-WR-CALDESC:Veranstaltungen für Grundschule Konzell
REFRESH-INTERVAL;VALUE=DURATION:PT1H
X-Robots-Tag:noindex
X-PUBLISHED-TTL:PT1H
BEGIN:VTIMEZONE
TZID:Europe/Berlin
BEGIN:DAYLIGHT
TZOFFSETFROM:+0100
TZOFFSETTO:+0200
TZNAME:CEST
DTSTART:20250330T010000
END:DAYLIGHT
BEGIN:STANDARD
TZOFFSETFROM:+0200
TZOFFSETTO:+0100
TZNAME:CET
DTSTART:20251026T010000
END:STANDARD
BEGIN:DAYLIGHT
TZOFFSETFROM:+0100
TZOFFSETTO:+0200
TZNAME:CEST
DTSTART:20260329T010000
END:DAYLIGHT
BEGIN:STANDARD
TZOFFSETFROM:+0200
TZOFFSETTO:+0100
TZNAME:CET
DTSTART:20261025T010000
END:STANDARD
BEGIN:DAYLIGHT
TZOFFSETFROM:+0100
TZOFFSETTO:+0200
TZNAME:CEST
DTSTART:20270328T010000
END:DAYLIGHT
BEGIN:STANDARD
TZOFFSETFROM:+0200
TZOFFSETTO:+0100
TZNAME:CET
DTSTART:20271031T010000
END:STANDARD
END:VTIMEZONE
BEGIN:VEVENT
DTSTART;TZID=Europe/Berlin:20260309T000000
DTEND;TZID=Europe/Berlin:20260430T000000
DTSTAMP:20260421T162517
CREATED:20260306T082703Z
LAST-MODIFIED:20260306T082703Z
UID:5316-1773014400-1777507200@grundschule-konzell.de
SUMMARY:Start des Projekts "SpoSpiTo-Bewegungs-Pass"
DESCRIPTION:Projekt für mehr Gesundheit\, Sicherheit und Klimaschutz
URL:https://grundschule-konzell.de/event/start-des-projekts-spospito-bewegungs-pass/
END:VEVENT
BEGIN:VEVENT
DTSTART;TZID=Europe/Berlin:20260421T080000
DTEND;TZID=Europe/Berlin:20260421T090000
DTSTAMP:20260421T162517
CREATED:20260317T121336Z
LAST-MODIFIED:20260317T121336Z
UID:5324-1776758400-1776762000@grundschule-konzell.de
SUMMARY:Sehtest für die Schülerinnen und Schüler der 4. Klasse
DESCRIPTION:Angebot im Vorfeld zur Jugendverkehrsschule
URL:https://grundschule-konzell.de/event/sehtest-fuer-die-schuelerinnen-und-schueler-der-4-klasse/
END:VEVENT
BEGIN:VEVENT
DTSTART;TZID=Europe/Berlin:20260421T080000
DTEND;TZID=Europe/Berlin:20260421T112000
DTSTAMP:20260421T162517
CREATED:20260317T121536Z
LAST-MODIFIED:20260317T121536Z
UID:5326-1776758400-1776770400@grundschule-konzell.de
SUMMARY:Käseherstellung in der 3. Klasse mit Nicola Nagels
DESCRIPTION:
URL:https://grundschule-konzell.de/event/kaeseherstellung-in-der-3-klasse-mit-nicola-nagels/
END:VEVENT
END:VCALENDAR