BEGIN:VCALENDAR
VERSION:2.0
PRODID:-//Grundschule Konzell - ECPv6.15.18//NONSGML v1.0//EN
CALSCALE:GREGORIAN
METHOD:PUBLISH
X-ORIGINAL-URL:https://grundschule-konzell.de
X-WR-CALDESC:Veranstaltungen für Grundschule Konzell
REFRESH-INTERVAL;VALUE=DURATION:PT1H
X-Robots-Tag:noindex
X-PUBLISHED-TTL:PT1H
BEGIN:VTIMEZONE
TZID:Europe/Berlin
BEGIN:DAYLIGHT
TZOFFSETFROM:+0100
TZOFFSETTO:+0200
TZNAME:CEST
DTSTART:20250330T010000
END:DAYLIGHT
BEGIN:STANDARD
TZOFFSETFROM:+0200
TZOFFSETTO:+0100
TZNAME:CET
DTSTART:20251026T010000
END:STANDARD
BEGIN:DAYLIGHT
TZOFFSETFROM:+0100
TZOFFSETTO:+0200
TZNAME:CEST
DTSTART:20260329T010000
END:DAYLIGHT
BEGIN:STANDARD
TZOFFSETFROM:+0200
TZOFFSETTO:+0100
TZNAME:CET
DTSTART:20261025T010000
END:STANDARD
BEGIN:DAYLIGHT
TZOFFSETFROM:+0100
TZOFFSETTO:+0200
TZNAME:CEST
DTSTART:20270328T010000
END:DAYLIGHT
BEGIN:STANDARD
TZOFFSETFROM:+0200
TZOFFSETTO:+0100
TZNAME:CET
DTSTART:20271031T010000
END:STANDARD
END:VTIMEZONE
BEGIN:VEVENT
DTSTART;TZID=Europe/Berlin:20260625T080000
DTEND;TZID=Europe/Berlin:20260625T113000
DTSTAMP:20260421T213028
CREATED:20260317T122808Z
LAST-MODIFIED:20260317T122808Z
UID:5346-1782374400-1782387000@grundschule-konzell.de
SUMMARY:Verkehrssicherheitstraining für alle Klassen
DESCRIPTION:Eigenes Fahrrad oder Roller erforderlich!
URL:https://grundschule-konzell.de/event/verkehrssicherheitstraining-fuer-alle-klassen/
END:VEVENT
BEGIN:VEVENT
DTSTART;TZID=Europe/Berlin:20260626T080000
DTEND;TZID=Europe/Berlin:20260626T100000
DTSTAMP:20260421T213028
CREATED:20260317T122223Z
LAST-MODIFIED:20260317T122223Z
UID:5338-1782460800-1782468000@grundschule-konzell.de
SUMMARY:Jugendverkehrsschule/Prüfung für die 4. Klasse im Verkehrsgarten Haibach
DESCRIPTION:
URL:https://grundschule-konzell.de/event/jugendverkehrsschule-pruefung-fuer-die-4-klasse-im-verkehrsgarten-haibach/
END:VEVENT
BEGIN:VEVENT
DTSTART;TZID=Europe/Berlin:20260701T080000
DTEND;TZID=Europe/Berlin:20260701T112000
DTSTAMP:20260421T213028
CREATED:20260317T123505Z
LAST-MODIFIED:20260317T123505Z
UID:5350-1782892800-1782904800@grundschule-konzell.de
SUMMARY:Sportfest
DESCRIPTION:Ersatztermin bei schlechtem Wetter: 08.07.
URL:https://grundschule-konzell.de/event/sportfest/
END:VEVENT
BEGIN:VEVENT
DTSTART;TZID=Europe/Berlin:20260709T083000
DTEND;TZID=Europe/Berlin:20260709T093000
DTSTAMP:20260421T213028
CREATED:20260414T103117Z
LAST-MODIFIED:20260414T103244Z
UID:5364-1783585800-1783589400@grundschule-konzell.de
SUMMARY:Theater "Abenteuer im Hexenwald"
DESCRIPTION:Angebot der Grundschule Haibach für alle Klassen
URL:https://grundschule-konzell.de/event/theater-abenteuer-im-hexenwald/
END:VEVENT
END:VCALENDAR